BEGIN:VCALENDAR
PRODID:P. E. Schall GmbH &amp; Co. KG
VERSION:2.0
CALSCALE:GREGORIAN
BEGIN:VEVENT
UID:429e2e76cea6bcb9b154f1f03df2ccaa-calID-optatec@schall-messen.de
ORGANIZER;CN="HOFBAUER":
LOCATION:Halle 3 Stand 503
SUMMARY:Aspheres aren't the problem - inner centration error is
DESCRIPTION:Presenter Dr. Engelbert Hofbauer\nhttps://www.optatec-messe.de/en/Lecture/4415-aspheres-aren%2527t-the-problem---inner-centration-error-is
CLASS:PUBLIC
TZID:Europe_Central
DTSTART:20260506T110000
DTEND:20260506T112000
DTSTAMP:20260425005357Z
END:VEVENT
END:VCALENDAR