BEGIN:VCALENDAR
PRODID:P. E. Schall GmbH &amp; Co. KG
VERSION:2.0
CALSCALE:GREGORIAN
BEGIN:VEVENT
UID:42b5d7e84b1b7803f2dabd5c875c69b8-calID-optatec@schall-messen.de
ORGANIZER;CN="I-Photonics":
LOCATION:Photonics Talks stage
SUMMARY:"Unlocking the Potential of Infrared Optics with Advanced Coating Processes" 
DESCRIPTION:"Unlocking the Potential of Infrared Optics with Advanced Coating Processes" \n
CLASS:PUBLIC
TZID:Europe_Central
DTSTART:20260505T103000
DTEND:20260505T105000
DTSTAMP:20260421142227Z
END:VEVENT
END:VCALENDAR